Workbook

Sheet Summary
A1: Your week in numbers
A2: Works itself out from the Log sheet.
A4: Channel | B4: Enquiries | C4: Average wait (hours) | D4: Longest wait (hours) | E4: Within the hour | F4: Booked
A5: Phone | B5: =COUNTIF(Log!C5:C204,A5) | C5: =IFERROR(AVERAGEIFS(Log!E5:E204,Log!C5:C204,A5),"") | D5: =IFERROR(IF(B5=0,"",_xlfn.MAXIFS(Log!E5:E204,Log!C5:C204,A5)),"") | E5: =IF(B5=0,"",COUNTIFS(Log!C5:C204,A5,Log!F5:F204,"Y")/B5) | F5: =COUNTIFS(Log!C5:C204,A5,Log!G5:G204,"Y")
A6: Web form | B6: =COUNTIF(Log!C5:C204,A6) | C6: =IFERROR(AVERAGEIFS(Log!E5:E204,Log!C5:C204,A6),"") | D6: =IFERROR(IF(B6=0,"",_xlfn.MAXIFS(Log!E5:E204,Log!C5:C204,A6)),"") | E6: =IF(B6=0,"",COUNTIFS(Log!C5:C204,A6,Log!F5:F204,"Y")/B6) | F6: =COUNTIFS(Log!C5:C204,A6,Log!G5:G204,"Y")
A7: Email | B7: =COUNTIF(Log!C5:C204,A7) | C7: =IFERROR(AVERAGEIFS(Log!E5:E204,Log!C5:C204,A7),"") | D7: =IFERROR(IF(B7=0,"",_xlfn.MAXIFS(Log!E5:E204,Log!C5:C204,A7)),"") | E7: =IF(B7=0,"",COUNTIFS(Log!C5:C204,A7,Log!F5:F204,"Y")/B7) | F7: =COUNTIFS(Log!C5:C204,A7,Log!G5:G204,"Y")
A8: Live chat | B8: =COUNTIF(Log!C5:C204,A8) | C8: =IFERROR(AVERAGEIFS(Log!E5:E204,Log!C5:C204,A8),"") | D8: =IFERROR(IF(B8=0,"",_xlfn.MAXIFS(Log!E5:E204,Log!C5:C204,A8)),"") | E8: =IF(B8=0,"",COUNTIFS(Log!C5:C204,A8,Log!F5:F204,"Y")/B8) | F8: =COUNTIFS(Log!C5:C204,A8,Log!G5:G204,"Y")
A9: Social message | B9: =COUNTIF(Log!C5:C204,A9) | C9: =IFERROR(AVERAGEIFS(Log!E5:E204,Log!C5:C204,A9),"") | D9: =IFERROR(IF(B9=0,"",_xlfn.MAXIFS(Log!E5:E204,Log!C5:C204,A9)),"") | E9: =IF(B9=0,"",COUNTIFS(Log!C5:C204,A9,Log!F5:F204,"Y")/B9) | F9: =COUNTIFS(Log!C5:C204,A9,Log!G5:G204,"Y")
A10: All channels | B10: =SUM(B5:B9) | C10: =IFERROR(AVERAGE(Log!E5:E204),"") | D10: =IFERROR(IF(B10=0,"",MAX(Log!E5:E204)),"") | E10: =IF(B10=0,"",COUNTIF(Log!F5:F204,"Y")/B10) | F10: =COUNTIF(Log!G5:G204,"Y")
A13: What we aim for: a real person within the hour during business hours, and missed calls returned the same day.
A15: Northline | hello@nikolasgannon.com.au | cal.com/nikolasgannon/30min

Sheet Log
A1: Enquiry response time tracker
A2: Log every new enquiry for one normal week. First response is when a real person made contact. Automatic replies do not count.
A4: Date | B4: Time in | C4: Channel | D4: First response time | E4: Wait (hours) | F4: Within the hour | G4: Booked (Y/N) | H4: Handled by | I4: Notes
E5: =IF(OR(A5="",B5="",D5=""),"",ROUND((D5-(A5+B5))*24,1)) | F5: =IF(E5="","",IF(E5<=1,"Y","N"))
E6: =IF(OR(A6="",B6="",D6=""),"",ROUND((D6-(A6+B6))*24,1)) | F6: =IF(E6="","",IF(E6<=1,"Y","N"))
E7: =IF(OR(A7="",B7="",D7=""),"",ROUND((D7-(A7+B7))*24,1)) | F7: =IF(E7="","",IF(E7<=1,"Y","N"))
E8: =IF(OR(A8="",B8="",D8=""),"",ROUND((D8-(A8+B8))*24,1)) | F8: =IF(E8="","",IF(E8<=1,"Y","N"))
E9: =IF(OR(A9="",B9="",D9=""),"",ROUND((D9-(A9+B9))*24,1)) | F9: =IF(E9="","",IF(E9<=1,"Y","N"))
E10: =IF(OR(A10="",B10="",D10=""),"",ROUND((D10-(A10+B10))*24,1)) | F10: =IF(E10="","",IF(E10<=1,"Y","N"))
E11: =IF(OR(A11="",B11="",D11=""),"",ROUND((D11-(A11+B11))*24,1)) | F11: =IF(E11="","",IF(E11<=1,"Y","N"))
E12: =IF(OR(A12="",B12="",D12=""),"",ROUND((D12-(A12+B12))*24,1)) | F12: =IF(E12="","",IF(E12<=1,"Y","N"))
E13: =IF(OR(A13="",B13="",D13=""),"",ROUND((D13-(A13+B13))*24,1)) | F13: =IF(E13="","",IF(E13<=1,"Y","N"))
E14: =IF(OR(A14="",B14="",D14=""),"",ROUND((D14-(A14+B14))*24,1)) | F14: =IF(E14="","",IF(E14<=1,"Y","N"))
E15: =IF(OR(A15="",B15="",D15=""),"",ROUND((D15-(A15+B15))*24,1)) | F15: =IF(E15="","",IF(E15<=1,"Y","N"))
E16: =IF(OR(A16="",B16="",D16=""),"",ROUND((D16-(A16+B16))*24,1)) | F16: =IF(E16="","",IF(E16<=1,"Y","N"))
... E204: =IF(OR(A204="",B204="",D204=""),"",ROUND((D204-(A204+B204))*24,1)) | F204: =IF(E204="","",IF(E204<=1,"Y","N"))
